BEGIN:VCALENDAR
VERSION:2.0
PRODID:-//AudioTheme 2.3.8
BEGIN:VEVENT
UID:urn:uuid:cd5ea7d4-a4fc-476a-acba-6d5806665826
URL:https://mitchmcvicker.com/concerts/gig-2329/
DTSTART;VALUE=DATE:20071204
SUMMARY:Four Rivers Church
LOCATION:Four Rivers Church\, Paducah\, KY
END:VEVENT
END:VCALENDAR
