BEGIN:VCALENDAR
VERSION:2.0
PRODID:-//AudioTheme 2.3.8
BEGIN:VEVENT
UID:urn:uuid:587d360c-a1f4-484d-bd1b-febf5ed2f7e4
URL:https://mitchmcvicker.com/concerts/gig-2328/
DTSTART;VALUE=DATE:20071202
SUMMARY:Andover United Methodist Church
LOCATION:Andover United Methodist Church\, Andover\, KS
END:VEVENT
END:VCALENDAR
