BEGIN:VCALENDAR
VERSION:2.0
PRODID:-//AudioTheme 2.3.8
BEGIN:VEVENT
UID:urn:uuid:1dffc0de-a8bb-41cc-8242-c086cfa0cfa2
URL:https://mitchmcvicker.com/concerts/gig-2326/
DTSTART;VALUE=DATE:20071201
SUMMARY:Southminster Presbyterian Church
LOCATION:Southminster Presbyterian Church\, Crestwood\, MO
END:VEVENT
END:VCALENDAR
