BEGIN:VCALENDAR
VERSION:2.0
PRODID:-//AudioTheme 2.3.8
BEGIN:VEVENT
UID:urn:uuid:97a93e6a-34a1-4a4c-bee8-22b8125466bc
URL:https://mitchmcvicker.com/concerts/gig-2325/
DTSTART;VALUE=DATE:20071130
SUMMARY:Batesville Christian Church
LOCATION:Batesville Christian Church\, 1294 Columbus Ave.\, Batesville\, IN
END:VEVENT
END:VCALENDAR
