BEGIN:VCALENDAR
VERSION:2.0
PRODID:-//AudioTheme 2.3.8
BEGIN:VEVENT
UID:urn:uuid:1d0e9b2f-749f-4568-9e90-d74fb6eb4abf
URL:https://mitchmcvicker.com/concerts/gig-2322/
DTSTART;VALUE=DATE:20071128
SUMMARY:St. Paul Catholic Church
LOCATION:St. Paul Catholic Church\, Valparaiso\, IN
END:VEVENT
END:VCALENDAR
