BEGIN:VCALENDAR
VERSION:2.0
PRODID:-//AudioTheme 2.3.8
BEGIN:VEVENT
UID:urn:uuid:61161ede-1cbc-47c7-aec1-f02461bd43a2
URL:https://mitchmcvicker.com/concerts/gig-2321/
DTSTART;VALUE=DATE:20071117
SUMMARY:Shawnee Heights United Methodist Church
LOCATION:Shawnee Heights United Methodist Church\, Tecumseh(Topeka)\, KS
END:VEVENT
END:VCALENDAR
