BEGIN:VCALENDAR
VERSION:2.0
PRODID:-//AudioTheme 2.3.8
BEGIN:VEVENT
UID:urn:uuid:a4978a45-e344-437c-af94-f5118475eef2
URL:https://mitchmcvicker.com/concerts/gig-2319/
DTSTART;VALUE=DATE:20071116
SUMMARY:St. Francis Boys' Home
LOCATION:St. Francis Boys' Home\, Abilene\, KS
END:VEVENT
END:VCALENDAR
