BEGIN:VCALENDAR
VERSION:2.0
PRODID:-//AudioTheme 2.3.8
BEGIN:VEVENT
UID:urn:uuid:dc056f3d-be52-48a0-94ae-1b935257af2f
URL:https://mitchmcvicker.com/concerts/gig-2318/
DTSTART;VALUE=DATE:20071115
SUMMARY:Faith and Learning Alumni Auditorium/Friends University
LOCATION:Faith and Learning Alumni Auditorium/Friends University\, Wichita\, KS
END:VEVENT
END:VCALENDAR
