BEGIN:VCALENDAR
VERSION:2.0
PRODID:-//AudioTheme 2.3.8
BEGIN:VEVENT
UID:urn:uuid:bddd3a35-b8d9-4e69-a7cc-01cc371f7290
URL:https://mitchmcvicker.com/concerts/gig-2316/
DTSTART;VALUE=DATE:20071114
SUMMARY:First United Methodist Church
LOCATION:First United Methodist Church\, Abilene\, KS
END:VEVENT
END:VCALENDAR
