BEGIN:VCALENDAR
VERSION:2.0
PRODID:-//AudioTheme 2.3.8
BEGIN:VEVENT
UID:urn:uuid:0683df65-b61f-49b1-8155-3be1b3edfd05
URL:https://mitchmcvicker.com/concerts/gig-2314/
DTSTART;VALUE=DATE:20071113
SUMMARY:LeClaire Christian Church
LOCATION:LeClaire Christian Church\, Edwardsville\, IL
END:VEVENT
END:VCALENDAR
