BEGIN:VCALENDAR
VERSION:2.0
PRODID:-//AudioTheme 2.3.8
BEGIN:VEVENT
UID:urn:uuid:31b5dc0c-8f56-46b0-9169-60347eace4a2
URL:https://mitchmcvicker.com/concerts/gig-2312/
DTSTART;VALUE=DATE:20071104
SUMMARY:First Missionary Church
LOCATION:First Missionary Church\, Berne\, IN
END:VEVENT
END:VCALENDAR
