BEGIN:VCALENDAR
VERSION:2.0
PRODID:-//AudioTheme 2.3.8
BEGIN:VEVENT
UID:urn:uuid:8cbff50d-a0fb-442e-ac8e-578966455657
URL:https://mitchmcvicker.com/concerts/gig-2311/
DTSTART;VALUE=DATE:20071103
SUMMARY:Riverwood Community Church
LOCATION:Riverwood Community Church\, Burlington\, WI
END:VEVENT
END:VCALENDAR
