BEGIN:VCALENDAR
VERSION:2.0
PRODID:-//AudioTheme 2.3.8
BEGIN:VEVENT
UID:urn:uuid:a54e5b2e-f285-49f9-a0f1-265a396a17e2
URL:https://mitchmcvicker.com/concerts/gig-2310/
DTSTART;VALUE=DATE:20071102
SUMMARY:Cup O'Joy Coffeehouse
LOCATION:Cup O'Joy Coffeehouse\, Green Bay\, WI
END:VEVENT
END:VCALENDAR
