BEGIN:VCALENDAR
VERSION:2.0
PRODID:-//AudioTheme 2.3.8
BEGIN:VEVENT
UID:urn:uuid:6c076a0e-9d72-4a3f-82d5-24c3db60c38d
URL:https://mitchmcvicker.com/concerts/gig-2309/
DTSTART;VALUE=DATE:20071101
SUMMARY:Trinity Lutheran Church
LOCATION:Trinity Lutheran Church\, 1410 Rogers St\, Stevens Point\, WI\, USA\, 54481
END:VEVENT
END:VCALENDAR
