BEGIN:VCALENDAR
VERSION:2.0
PRODID:-//AudioTheme 2.3.8
BEGIN:VEVENT
UID:urn:uuid:bb0dab97-1ffc-4b55-a816-154baa585259
URL:https://mitchmcvicker.com/concerts/gig-2305/
DTSTART;VALUE=DATE:20071028
SUMMARY:Alamance Presbyterian Church
LOCATION:Alamance Presbyterian Church\, Greensboro\, NC
END:VEVENT
END:VCALENDAR
