BEGIN:VCALENDAR
VERSION:2.0
PRODID:-//AudioTheme 2.3.8
BEGIN:VEVENT
UID:urn:uuid:996b3ef3-5d12-4494-9538-80e2dff1d254
URL:https://mitchmcvicker.com/concerts/gig-2304/
DTSTART;VALUE=DATE:20071027
SUMMARY:Pavillion Coffeehouse
LOCATION:Pavillion Coffeehouse\, Cayce\, SC
END:VEVENT
END:VCALENDAR
