BEGIN:VCALENDAR
VERSION:2.0
PRODID:-//AudioTheme 2.3.8
BEGIN:VEVENT
UID:urn:uuid:21076a56-cb6b-4b02-ae86-4eb4acd40abb
URL:https://mitchmcvicker.com/concerts/gig-2302/
DTSTART;VALUE=DATE:20071026
SUMMARY:St. Marks Church
LOCATION:St. Marks Church\, Burlington\, NC
END:VEVENT
END:VCALENDAR
