BEGIN:VCALENDAR
VERSION:2.0
PRODID:-//AudioTheme 2.3.8
BEGIN:VEVENT
UID:urn:uuid:2b657436-2331-4085-b1ff-64df99aab658
URL:https://mitchmcvicker.com/concerts/gig-2300/
DTSTART;VALUE=DATE:20071025
SUMMARY:Ebenezer United Methodist Church
LOCATION:Ebenezer United Methodist Church\, Fallston\, MD
END:VEVENT
END:VCALENDAR
