BEGIN:VCALENDAR
VERSION:2.0
PRODID:-//AudioTheme 2.3.8
BEGIN:VEVENT
UID:urn:uuid:95723fb1-f095-4cb3-8015-c85855bde2ac
URL:https://mitchmcvicker.com/concerts/gig-2298/
DTSTART;VALUE=DATE:20071024
SUMMARY:First Southern Baptist Church
LOCATION:First Southern Baptist Church\, Williamsport\, PA
END:VEVENT
END:VCALENDAR
