BEGIN:VCALENDAR
VERSION:2.0
PRODID:-//AudioTheme 2.3.8
BEGIN:VEVENT
UID:urn:uuid:86a6637f-c002-46b0-a1f7-685c963da31c
URL:https://mitchmcvicker.com/concerts/gig-2296/
DTSTART;VALUE=DATE:20071023
SUMMARY:Waynesburg College Alumni Hall
LOCATION:Waynesburg College Alumni Hall\, Waynesburg\, PA
END:VEVENT
END:VCALENDAR
