BEGIN:VCALENDAR
VERSION:2.0
PRODID:-//AudioTheme 2.3.8
BEGIN:VEVENT
UID:urn:uuid:283834f2-2266-48fa-bfbb-5027edf753ba
URL:https://mitchmcvicker.com/concerts/gig-2295/
DTSTART;VALUE=DATE:20071021
SUMMARY:Harbor United Methodist Church
LOCATION:Harbor United Methodist Church\, Boston (Scituate)\, MA
END:VEVENT
END:VCALENDAR
