BEGIN:VCALENDAR
VERSION:2.0
PRODID:-//AudioTheme 2.3.8
BEGIN:VEVENT
UID:urn:uuid:37e69922-e31b-4e55-9de4-081cd0bec673
URL:https://mitchmcvicker.com/concerts/gig-2294/
DTSTART;VALUE=DATE:20071021
SUMMARY:Calvary Chapel
LOCATION:Calvary Chapel\, Uncasville\, CT
END:VEVENT
END:VCALENDAR
