BEGIN:VCALENDAR
VERSION:2.0
PRODID:-//AudioTheme 2.3.8
BEGIN:VEVENT
UID:urn:uuid:adecbcf9-4ad5-42d3-8e09-7cacaaf4c508
URL:https://mitchmcvicker.com/concerts/gig-2291/
DTSTART;VALUE=DATE:20071019
SUMMARY:Grace United Methodist Church
LOCATION:Grace United Methodist Church\, Newburgh\, NY
END:VEVENT
END:VCALENDAR
