BEGIN:VCALENDAR
VERSION:2.0
PRODID:-//AudioTheme 2.3.8
BEGIN:VEVENT
UID:urn:uuid:5ce8cc29-1b4c-4d89-9711-df2f41ca042c
URL:https://mitchmcvicker.com/concerts/gig-2290/
DTSTART;VALUE=DATE:20071018
SUMMARY:Penn Township Building
LOCATION:Penn Township Building\, Harrisburg(Duncannon)\, PA
END:VEVENT
END:VCALENDAR
