BEGIN:VCALENDAR
VERSION:2.0
PRODID:-//AudioTheme 2.3.8
BEGIN:VEVENT
UID:urn:uuid:a4550e32-c97b-4250-ab20-49da1a98bb6b
URL:https://mitchmcvicker.com/concerts/gig-2288/
DTSTART;VALUE=DATE:20071007
SUMMARY:Jefferson United Methodist Church
LOCATION:Jefferson United Methodist Church\, Jefferson\, OH
END:VEVENT
END:VCALENDAR
