BEGIN:VCALENDAR
VERSION:2.0
PRODID:-//AudioTheme 2.3.8
BEGIN:VEVENT
UID:urn:uuid:9f6f68cd-eac7-4f74-b85d-b659ac7602da
URL:https://mitchmcvicker.com/concerts/gig-2287/
DTSTART;VALUE=DATE:20071006
SUMMARY:Blessed Sacrament Church
LOCATION:Blessed Sacrament Church\, 263 Claremont Ave\, Tonawanda\, NY
END:VEVENT
END:VCALENDAR
