BEGIN:VCALENDAR
VERSION:2.0
PRODID:-//AudioTheme 2.3.8
BEGIN:VEVENT
UID:urn:uuid:7dc1480a-538a-405b-9fa9-173a00118e32
URL:https://mitchmcvicker.com/concerts/gig-2285/
DTSTART;VALUE=DATE:20071005
SUMMARY:Holy Trinity Church
LOCATION:Holy Trinity Church\, Dunkirk\, NY
END:VEVENT
END:VCALENDAR
