BEGIN:VCALENDAR
VERSION:2.0
PRODID:-//AudioTheme 2.3.8
BEGIN:VEVENT
UID:urn:uuid:54ac6b58-a170-4e40-bbe3-d4c2000191ee
URL:https://mitchmcvicker.com/concerts/gig-2283/
DTSTART;VALUE=DATE:20071004
SUMMARY:Countryside Church
LOCATION:Countryside Church\, Michigan City\, IN
END:VEVENT
END:VCALENDAR
