BEGIN:VCALENDAR
VERSION:2.0
PRODID:-//AudioTheme 2.3.8
BEGIN:VEVENT
UID:urn:uuid:4ff5d8f7-9099-4414-89be-51445eff9a07
URL:https://mitchmcvicker.com/concerts/gig-2280/
DTSTART;VALUE=DATE:20071003
SUMMARY:Western Illinois University Wesley Foundation
LOCATION:Western Illinois University Wesley Foundation\, Macomb\, IL
END:VEVENT
END:VCALENDAR
