BEGIN:VCALENDAR
VERSION:2.0
PRODID:-//AudioTheme 2.3.8
BEGIN:VEVENT
UID:urn:uuid:70d69e5d-86d8-4ba1-89e6-f39535797654
URL:https://mitchmcvicker.com/concerts/gig-2278/
DTSTART;VALUE=DATE:20071002
SUMMARY:Cincinnati Christian University
LOCATION:Cincinnati Christian University\, Cincinnati\, OH
END:VEVENT
END:VCALENDAR
