BEGIN:VCALENDAR
VERSION:2.0
PRODID:-//AudioTheme 2.3.8
BEGIN:VEVENT
UID:urn:uuid:c045818b-a8b2-4057-bfcd-901645c0443a
URL:https://mitchmcvicker.com/concerts/gig-2276/
DTSTART;VALUE=DATE:20070930
SUMMARY:Minier Christian Church
LOCATION:Minier Christian Church\, Minier\, IL
END:VEVENT
END:VCALENDAR
