BEGIN:VCALENDAR
VERSION:2.0
PRODID:-//AudioTheme 2.3.8
BEGIN:VEVENT
UID:urn:uuid:278c152b-b903-4617-b52b-f31d596ec779
URL:https://mitchmcvicker.com/concerts/gig-2274/
DTSTART;VALUE=DATE:20070929
SUMMARY:First Church of the Nazarene
LOCATION:First Church of the Nazarene\, Crawfordsville\, IN
END:VEVENT
END:VCALENDAR
