BEGIN:VCALENDAR
VERSION:2.0
PRODID:-//AudioTheme 2.3.8
BEGIN:VEVENT
UID:urn:uuid:a72fa137-050e-4366-aad9-ceea8090dd94
URL:https://mitchmcvicker.com/concerts/gig-2271/
DTSTART;VALUE=DATE:20070928
SUMMARY:Yorkfield Presbyterian Church
LOCATION:Yorkfield Presbyterian Church\, Elmhurst\, IL
END:VEVENT
END:VCALENDAR
