BEGIN:VCALENDAR
VERSION:2.0
PRODID:-//AudioTheme 2.3.8
BEGIN:VEVENT
UID:urn:uuid:1733b8eb-a390-4dd2-b171-e47402ecfe80
URL:https://mitchmcvicker.com/concerts/gig-2268/
DTSTART;VALUE=DATE:20070927
SUMMARY:Grace Bible Church of Newaygo
LOCATION:Grace Bible Church of Newaygo\, Newaygo\, MI
END:VEVENT
END:VCALENDAR
