BEGIN:VCALENDAR
VERSION:2.0
PRODID:-//AudioTheme 2.3.8
BEGIN:VEVENT
UID:urn:uuid:d0bf2107-9c3a-4755-986f-89fb7a36d2e6
URL:https://mitchmcvicker.com/concerts/gig-2267/
DTSTART;VALUE=DATE:20070926
SUMMARY:Parkview Church of the Nazarene
LOCATION:Parkview Church of the Nazarene\, Nashville\, IN
END:VEVENT
END:VCALENDAR
