BEGIN:VCALENDAR
VERSION:2.0
PRODID:-//AudioTheme 2.3.8
BEGIN:VEVENT
UID:urn:uuid:11a7955e-e56b-4fad-946d-e37020f46eae
URL:https://mitchmcvicker.com/concerts/gig-2265/
DTSTART;VALUE=DATE:20070925
SUMMARY:Deer Run Church of Christ
LOCATION:Deer Run Church of Christ\, South Bend\, IN
END:VEVENT
END:VCALENDAR
