BEGIN:VCALENDAR
VERSION:2.0
PRODID:-//AudioTheme 2.3.8
BEGIN:VEVENT
UID:urn:uuid:fc9aea60-433f-45d4-a795-6861bbba9e50
URL:https://mitchmcvicker.com/concerts/gig-2264/
DTSTART;VALUE=DATE:20070923
SUMMARY:South Metro Vineyard Church
LOCATION:South Metro Vineyard Church\, 13798 Parkwood Dr\, Burnsville\, MN\, USA\, 55337
END:VEVENT
END:VCALENDAR
