BEGIN:VCALENDAR
VERSION:2.0
PRODID:-//AudioTheme 2.3.8
BEGIN:VEVENT
UID:urn:uuid:c2c513d6-367e-402d-ba9a-549729444dfb
URL:https://mitchmcvicker.com/concerts/gig-2263/
DTSTART;VALUE=DATE:20070922
SUMMARY:Grace Reformed Church
LOCATION:Grace Reformed Church\, 520 Maxwell St\, Waterloo\, IA\, USA
END:VEVENT
END:VCALENDAR
