BEGIN:VCALENDAR
VERSION:2.0
PRODID:-//AudioTheme 2.3.8
BEGIN:VEVENT
UID:urn:uuid:e81e58d5-3965-4ef5-802e-ae7a48c365ee
URL:https://mitchmcvicker.com/concerts/gig-2262/
DTSTART;VALUE=DATE:20070921
SUMMARY:Blind Munchies Coffeehouse
LOCATION:Blind Munchies Coffeehouse\, Menomonie\, WI
END:VEVENT
END:VCALENDAR
