BEGIN:VCALENDAR
VERSION:2.0
PRODID:-//AudioTheme 2.3.8
BEGIN:VEVENT
UID:urn:uuid:5d50bd32-974b-4a9a-b540-d7d631e24ddb
URL:https://mitchmcvicker.com/concerts/gig-2261/
DTSTART;VALUE=DATE:20070920
SUMMARY:St. Croix Art Barn
LOCATION:St. Croix Art Barn\, Osceola\, WI
END:VEVENT
END:VCALENDAR
