BEGIN:VCALENDAR
VERSION:2.0
PRODID:-//AudioTheme 2.3.8
BEGIN:VEVENT
UID:urn:uuid:038ba1e8-fec1-4a85-98e7-a01a8f76b39f
URL:https://mitchmcvicker.com/concerts/gig-2259/
DTSTART;VALUE=DATE:20070919
SUMMARY:Westridge Community Church-Visual Performing Arts Center-Elgin Community College
LOCATION:Westridge Community Church-Visual Performing Arts Center-Elgin Community College\, Elgin\, IL
END:VEVENT
END:VCALENDAR
