BEGIN:VCALENDAR
VERSION:2.0
PRODID:-//AudioTheme 2.3.8
BEGIN:VEVENT
UID:urn:uuid:7ed41deb-e5dd-430b-baba-22e6ea10179f
URL:https://mitchmcvicker.com/concerts/gig-2257/
DTSTART;VALUE=DATE:20070918
SUMMARY:Park Chapel Christian Church
LOCATION:Park Chapel Christian Church\, Greenfield\, IN
END:VEVENT
END:VCALENDAR
