BEGIN:VCALENDAR
VERSION:2.0
PRODID:-//AudioTheme 2.3.8
BEGIN:VEVENT
UID:urn:uuid:8243e5e6-d600-49bd-859f-61ea9b00bed2
URL:https://mitchmcvicker.com/concerts/gig-2255/
DTSTART;VALUE=DATE:20070916
SUMMARY:North Madison Christian Church
LOCATION:North Madison Christian Church\, Madison\, IN
END:VEVENT
END:VCALENDAR
