BEGIN:VCALENDAR
VERSION:2.0
PRODID:-//AudioTheme 2.3.8
BEGIN:VEVENT
UID:urn:uuid:1a6596c3-6040-4527-93fe-c9c5c48809d4
URL:https://mitchmcvicker.com/concerts/gig-2253/
DTSTART;VALUE=DATE:20070915
SUMMARY:Sacred Grounds Coffeeshop
LOCATION:Sacred Grounds Coffeeshop\, Lafayette\, IN
END:VEVENT
END:VCALENDAR
