BEGIN:VCALENDAR
VERSION:2.0
PRODID:-//AudioTheme 2.3.8
BEGIN:VEVENT
UID:urn:uuid:9a9d0bf6-7f2f-4196-84b8-1fc46d455dff
URL:https://mitchmcvicker.com/concerts/gig-2251/
DTSTART;VALUE=DATE:20070914
SUMMARY:Valley Springs Fellowship
LOCATION:Valley Springs Fellowship\, Warsaw\, IN
END:VEVENT
END:VCALENDAR
