BEGIN:VCALENDAR
VERSION:2.0
PRODID:-//AudioTheme 2.3.8
BEGIN:VEVENT
UID:urn:uuid:c6e114e2-eeed-445f-afc2-2493532098af
URL:https://mitchmcvicker.com/concerts/gig-2249/
DTSTART;VALUE=DATE:20070907
SUMMARY:Baptist College of Health Sciences
LOCATION:Baptist College of Health Sciences\, Memphis\, TN
END:VEVENT
END:VCALENDAR
