BEGIN:VCALENDAR
VERSION:2.0
PRODID:-//AudioTheme 2.3.8
BEGIN:VEVENT
UID:urn:uuid:438d72e0-29b0-4c50-be3f-f96d3d744b9f
URL:https://mitchmcvicker.com/concerts/gig-2245/
DTSTART;VALUE=DATE:20070825
SUMMARY:Mebane Presbyterian Church
LOCATION:Mebane Presbyterian Church\, Mebane\, NC
END:VEVENT
END:VCALENDAR
