BEGIN:VCALENDAR
VERSION:2.0
PRODID:-//AudioTheme 2.3.8
BEGIN:VEVENT
UID:urn:uuid:29f5ee7a-f108-4764-8bc8-54e325902f9f
URL:https://mitchmcvicker.com/concerts/gig-2244/
DTSTART;VALUE=DATE:20070824
SUMMARY:Church at Clayton Crossings
LOCATION:Church at Clayton Crossings\, Clayton\, NC
END:VEVENT
END:VCALENDAR
