BEGIN:VCALENDAR
VERSION:2.0
PRODID:-//AudioTheme 2.3.8
BEGIN:VEVENT
UID:urn:uuid:a046549f-165e-47b7-9682-1998d9983596
URL:https://mitchmcvicker.com/concerts/gig-2242/
DTSTART;VALUE=DATE:20070823
SUMMARY:Tennille Baptist Church
LOCATION:Tennille Baptist Church\, Tennille\, GA
END:VEVENT
END:VCALENDAR
