BEGIN:VCALENDAR
VERSION:2.0
PRODID:-//AudioTheme 2.3.8
BEGIN:VEVENT
UID:urn:uuid:851039b7-096a-4b5f-b535-3edccfd3063e
URL:https://mitchmcvicker.com/concerts/gig-2239/
DTSTART;VALUE=DATE:20070817
SUMMARY:First Church of God
LOCATION:First Church of God\, Dewey\, OK
END:VEVENT
END:VCALENDAR
